BEGIN:VCALENDAR
VERSION:2.0
PRODID:-//Plone.org//NONSGML plone.app.event//EN
X-WR-TIMEZONE:Europe/Berlin
BEGIN:VEVENT
SUMMARY:Thiemo Dalpra und Norbert Dehmke – Das Geheimnis der Kiste
DTSTART;TZID=Europe/Berlin:20080301T150000
DTSTAMP:20260423T033503Z
UID:39dbe535e4e44ca7ac5042e151d43870@zmi.spielboden.at
CREATED:20120822T145423Z
LAST-MODIFIED:20210809T123733Z
URL:https://zmi.spielboden.at/Plone/veranstaltungen/2008/03_maerz/2008-03-
 01-15-00-thiemo-dalpra-und-norbert-dehmke-2013-das-geheimnis-der-kiste
END:VEVENT
BEGIN:VTIMEZONE
TZID:Europe/Berlin
X-LIC-LOCATION:Europe/Berlin
BEGIN:STANDARD
DTSTART:20071028T020000
TZNAME:CET
TZOFFSETFROM:+0200
TZOFFSETTO:+0100
END:STANDARD
END:VTIMEZONE
END:VCALENDAR
