BEGIN:VCALENDAR
VERSION:2.0
PRODID:-//Plone.org//NONSGML plone.app.event//EN
X-WR-TIMEZONE:Europe/Berlin
BEGIN:VEVENT
SUMMARY:Theater Wagabunt - Diese deutsche Nacht aus 1001 Nacht
DTSTART;TZID=Europe/Berlin:20080301T203000
DTSTAMP:20260423T031446Z
UID:ca25bdced50e48caa40461c20a8bd05a@zmi.spielboden.at
CREATED:20120822T145418Z
DESCRIPTION:Ein Monolog für eine Frau
LAST-MODIFIED:20210809T123732Z
URL:https://zmi.spielboden.at/Plone/veranstaltungen/2008/02_februar/2008-0
 3-01-20-30-theater-wagabunt-diese-deutsche-nacht-aus-1001-nacht
END:VEVENT
BEGIN:VTIMEZONE
TZID:Europe/Berlin
X-LIC-LOCATION:Europe/Berlin
BEGIN:STANDARD
DTSTART:20071028T020000
TZNAME:CET
TZOFFSETFROM:+0200
TZOFFSETTO:+0100
END:STANDARD
END:VTIMEZONE
END:VCALENDAR
