BEGIN:VCALENDAR
VERSION:2.0
PRODID:-//Plone.org//NONSGML plone.app.event//EN
X-WR-TIMEZONE:Europe/Berlin
BEGIN:VEVENT
SUMMARY:SONIC CAFE - heute mit Herrn Aaron
DTSTART;TZID=Europe/Berlin:20080228T210000
DTSTAMP:20260423T030928Z
UID:e5d5a7cef6184738a1f12ea6900124e4@zmi.spielboden.at
CREATED:20120822T145419Z
LAST-MODIFIED:20120910T114158Z
URL:https://zmi.spielboden.at/Plone/veranstaltungen/2008/02_februar/2008-0
 2-28-21-00-sonic-cafe-heute-mit-herrn-aaron
END:VEVENT
BEGIN:VTIMEZONE
TZID:Europe/Berlin
X-LIC-LOCATION:Europe/Berlin
BEGIN:STANDARD
DTSTART:20071028T020000
TZNAME:CET
TZOFFSETFROM:+0200
TZOFFSETTO:+0100
END:STANDARD
END:VTIMEZONE
END:VCALENDAR
