BEGIN:VCALENDAR
VERSION:2.0
PRODID:-//Plone.org//NONSGML plone.app.event//EN
X-WR-TIMEZONE:Europe/Berlin
BEGIN:VEVENT
SUMMARY:PREMIERE - Theater Wagabunt - Diese deutsche Nacht aus 1001 Nacht
DTSTART;TZID=Europe/Berlin:20080227T203000
DTSTAMP:20260423T031445Z
UID:8e5204d9341c404cbede0c4e9b1edbd1@zmi.spielboden.at
CREATED:20120822T145417Z
DESCRIPTION:Ein Monolog für eine Frau
LAST-MODIFIED:20210809T123731Z
URL:https://zmi.spielboden.at/Plone/veranstaltungen/2008/02_februar/2008-0
 2-27-20-30-premiere-theater-wagabunt-diese-deutsche-nacht-aus-1001-nacht
END:VEVENT
BEGIN:VTIMEZONE
TZID:Europe/Berlin
X-LIC-LOCATION:Europe/Berlin
BEGIN:STANDARD
DTSTART:20071028T020000
TZNAME:CET
TZOFFSETFROM:+0200
TZOFFSETTO:+0100
END:STANDARD
END:VTIMEZONE
END:VCALENDAR
