BEGIN:VCALENDAR
VERSION:2.0
PRODID:-//Plone.org//NONSGML plone.app.event//EN
X-WR-TIMEZONE:Europe/Berlin
BEGIN:VEVENT
SUMMARY:Arabische Filmreihe – Le grand voyage / Die große Reise (Marokk
 o)
DTSTART;TZID=Europe/Berlin:20080226T203000
DTSTAMP:20260423T031445Z
UID:552b4a0f47de4467bbea284444c3084b@zmi.spielboden.at
CREATED:20120822T144418Z
DESCRIPTION:in Zusammenarbeit mit dem Marokkanischen Verein
LAST-MODIFIED:20210809T123425Z
URL:https://zmi.spielboden.at/Plone/veranstaltungen/2008/02_februar/2008-0
 2-26-20-30-arabische-filmreihe-2013-le-grand-voyage-die-grose-reise-marokk
 o
END:VEVENT
BEGIN:VTIMEZONE
TZID:Europe/Berlin
X-LIC-LOCATION:Europe/Berlin
BEGIN:STANDARD
DTSTART:20071028T020000
TZNAME:CET
TZOFFSETFROM:+0200
TZOFFSETTO:+0100
END:STANDARD
END:VTIMEZONE
END:VCALENDAR
