BEGIN:VCALENDAR
VERSION:2.0
PRODID:-//Plone.org//NONSGML plone.app.event//EN
X-WR-TIMEZONE:Europe/Berlin
BEGIN:VEVENT
SUMMARY:Kindertheater Schneck + Co - Die Omama im Apfelbaum
DTSTART;TZID=Europe/Berlin:20080223T150000
DTSTAMP:20260423T031336Z
UID:6ca27c69bfbf4e899bf04d86de2c81bd@zmi.spielboden.at
CREATED:20120822T145414Z
DESCRIPTION:Musik-Sprechtheater für Kinder ab 5+ Jahren
LAST-MODIFIED:20210809T123730Z
URL:https://zmi.spielboden.at/Plone/veranstaltungen/2008/02_februar/2008-0
 2-23-15-00-kindertheater-schneck-co-die-omama-im-apfelbaum
END:VEVENT
BEGIN:VTIMEZONE
TZID:Europe/Berlin
X-LIC-LOCATION:Europe/Berlin
BEGIN:STANDARD
DTSTART:20071028T020000
TZNAME:CET
TZOFFSETFROM:+0200
TZOFFSETTO:+0100
END:STANDARD
END:VTIMEZONE
END:VCALENDAR
