BEGIN:VCALENDAR
VERSION:2.0
PRODID:-//Plone.org//NONSGML plone.app.event//EN
X-WR-TIMEZONE:Europe/Berlin
BEGIN:VEVENT
SUMMARY:DJ Ernesto - Indie Pop & Rock Night
DTSTART;TZID=Europe/Berlin:20080222T233000
DTSTAMP:20260423T031044Z
UID:36a8615ddd9a482a89c73c5cf9de6425@zmi.spielboden.at
CREATED:20120822T145414Z
LAST-MODIFIED:20120910T114158Z
URL:https://zmi.spielboden.at/Plone/veranstaltungen/2008/02_februar/2008-0
 2-22-23-30-dj-ernesto-indie-pop-rock-night
END:VEVENT
BEGIN:VTIMEZONE
TZID:Europe/Berlin
X-LIC-LOCATION:Europe/Berlin
BEGIN:STANDARD
DTSTART:20071028T020000
TZNAME:CET
TZOFFSETFROM:+0200
TZOFFSETTO:+0100
END:STANDARD
END:VTIMEZONE
END:VCALENDAR
