BEGIN:VCALENDAR
VERSION:2.0
PRODID:-//Plone.org//NONSGML plone.app.event//EN
X-WR-TIMEZONE:Europe/Berlin
BEGIN:VEVENT
SUMMARY:Das kurze Leben des José Antonio Gutierrez
DTSTART;TZID=Europe/Berlin:20080220T203000
DTSTAMP:20260423T033126Z
UID:b1772f41ba61445782d7ec37bc0cb565@zmi.spielboden.at
CREATED:20120822T145413Z
LAST-MODIFIED:20210809T123730Z
URL:https://zmi.spielboden.at/Plone/veranstaltungen/2008/02_februar/2008-0
 2-20-20-30-das-kurze-leben-des-jose-antonio-gutierrez
END:VEVENT
BEGIN:VTIMEZONE
TZID:Europe/Berlin
X-LIC-LOCATION:Europe/Berlin
BEGIN:STANDARD
DTSTART:20071028T020000
TZNAME:CET
TZOFFSETFROM:+0200
TZOFFSETTO:+0100
END:STANDARD
END:VTIMEZONE
END:VCALENDAR
