BEGIN:VCALENDAR
VERSION:2.0
PRODID:-//Plone.org//NONSGML plone.app.event//EN
X-WR-TIMEZONE:Europe/Berlin
BEGIN:VEVENT
SUMMARY:SONIC CAFE - heute mit Fräulein Cicibe
DTSTART;TZID=Europe/Berlin:20080215T210000
DTSTAMP:20260423T020519Z
UID:3612a84e73f94a9c9c5ae80f32c8950a@zmi.spielboden.at
CREATED:20120822T145408Z
LAST-MODIFIED:20120910T114157Z
URL:https://zmi.spielboden.at/Plone/veranstaltungen/2008/02_februar/2008-0
 2-15-21-00-sonic-cafe-heute-mit-fraeulein-cicibe
END:VEVENT
BEGIN:VTIMEZONE
TZID:Europe/Berlin
X-LIC-LOCATION:Europe/Berlin
BEGIN:STANDARD
DTSTART:20071028T020000
TZNAME:CET
TZOFFSETFROM:+0200
TZOFFSETTO:+0100
END:STANDARD
END:VTIMEZONE
END:VCALENDAR
