BEGIN:VCALENDAR
VERSION:2.0
PRODID:-//Plone.org//NONSGML plone.app.event//EN
X-WR-TIMEZONE:Europe/Berlin
BEGIN:VEVENT
SUMMARY:Renato Borghetti
DTSTART;TZID=Europe/Berlin:20080214T203000
DTSTAMP:20260423T020016Z
UID:5f1693057e9c4afeafb1bc6156667ae1@zmi.spielboden.at
CREATED:20120822T145407Z
DESCRIPTION:Gaucho Power vom Feinsten
LAST-MODIFIED:20210809T123729Z
URL:https://zmi.spielboden.at/Plone/veranstaltungen/2008/02_februar/2008-0
 2-14-20-30-renato-borghetti
END:VEVENT
BEGIN:VTIMEZONE
TZID:Europe/Berlin
X-LIC-LOCATION:Europe/Berlin
BEGIN:STANDARD
DTSTART:20071028T020000
TZNAME:CET
TZOFFSETFROM:+0200
TZOFFSETTO:+0100
END:STANDARD
END:VTIMEZONE
END:VCALENDAR
