BEGIN:VCALENDAR
VERSION:2.0
PRODID:-//Plone.org//NONSGML plone.app.event//EN
X-WR-TIMEZONE:Europe/Berlin
BEGIN:VEVENT
SUMMARY:Theatergruppe Motif - Ben eskiden kücüktüm / Ich war damals kle
 in
DTSTART;TZID=Europe/Berlin:20080210T150000
DTSTAMP:20260423T020652Z
UID:6e31fb5210814963831ded26e1320696@zmi.spielboden.at
CREATED:20120822T145405Z
LAST-MODIFIED:20120910T114157Z
URL:https://zmi.spielboden.at/Plone/veranstaltungen/2008/02_februar/2008-0
 2-10-15-00-theatergruppe-motif-ben-eskiden-kuecuektuem-ich-war-damals-klei
 n
END:VEVENT
BEGIN:VTIMEZONE
TZID:Europe/Berlin
X-LIC-LOCATION:Europe/Berlin
BEGIN:STANDARD
DTSTART:20071028T020000
TZNAME:CET
TZOFFSETFROM:+0200
TZOFFSETTO:+0100
END:STANDARD
END:VTIMEZONE
END:VCALENDAR
