BEGIN:VCALENDAR
VERSION:2.0
PRODID:-//Plone.org//NONSGML plone.app.event//EN
X-WR-TIMEZONE:Europe/Berlin
BEGIN:VEVENT
SUMMARY:Hamburger Lektionen
DTSTART;TZID=Europe/Berlin:20080209T203000
DTSTAMP:20260423T020114Z
UID:d58c58a470a7431ea76c1970a1c8a98b@zmi.spielboden.at
CREATED:20120822T145404Z
LAST-MODIFIED:20210809T123729Z
URL:https://zmi.spielboden.at/Plone/veranstaltungen/2008/02_februar/2008-0
 2-09-20-30-hamburger-lektionen
END:VEVENT
BEGIN:VTIMEZONE
TZID:Europe/Berlin
X-LIC-LOCATION:Europe/Berlin
BEGIN:STANDARD
DTSTART:20071028T020000
TZNAME:CET
TZOFFSETFROM:+0200
TZOFFSETTO:+0100
END:STANDARD
END:VTIMEZONE
END:VCALENDAR
