BEGIN:VCALENDAR
VERSION:2.0
PRODID:-//Plone.org//NONSGML plone.app.event//EN
X-WR-TIMEZONE:Europe/Berlin
BEGIN:VEVENT
SUMMARY:FM4 Überraschungskonzert mit SLUT
DTSTART;TZID=Europe/Berlin:20080209T203000
DTSTAMP:20260423T014156Z
UID:79416469aaff4833a0bab72fad2a240b@zmi.spielboden.at
CREATED:20120822T145421Z
LAST-MODIFIED:20210809T123733Z
URL:https://zmi.spielboden.at/Plone/veranstaltungen/2008/02_februar/2008-0
 2-09-20-30-fm4-ueberraschungskonzert-mit-slut
END:VEVENT
BEGIN:VTIMEZONE
TZID:Europe/Berlin
X-LIC-LOCATION:Europe/Berlin
BEGIN:STANDARD
DTSTART:20071028T020000
TZNAME:CET
TZOFFSETFROM:+0200
TZOFFSETTO:+0100
END:STANDARD
END:VTIMEZONE
END:VCALENDAR
