BEGIN:VCALENDAR
VERSION:2.0
PRODID:-//Plone.org//NONSGML plone.app.event//EN
X-WR-TIMEZONE:Europe/Berlin
BEGIN:VEVENT
SUMMARY:Klexstheater Augsburg – Bobo und Susu
DTSTART;TZID=Europe/Berlin:20080209T150000
DTSTAMP:20260423T031336Z
UID:f032669ebf104e4bbdac6fcea4778beb@zmi.spielboden.at
CREATED:20120822T145404Z
DESCRIPTION:Nach der gleichnamigen Geschichte von Rafik Schami\, ab 4 Jahr
 en\n
LAST-MODIFIED:20210809T123729Z
URL:https://zmi.spielboden.at/Plone/veranstaltungen/2008/02_februar/2008-0
 2-09-15-00-klexstheater-augsburg-2013-bobo-und-susu
END:VEVENT
BEGIN:VTIMEZONE
TZID:Europe/Berlin
X-LIC-LOCATION:Europe/Berlin
BEGIN:STANDARD
DTSTART:20071028T020000
TZNAME:CET
TZOFFSETFROM:+0200
TZOFFSETTO:+0100
END:STANDARD
END:VTIMEZONE
END:VCALENDAR
