BEGIN:VCALENDAR
VERSION:2.0
PRODID:-//Plone.org//NONSGML plone.app.event//EN
X-WR-TIMEZONE:Europe/Berlin
BEGIN:VEVENT
SUMMARY:Wal Mart – Der hohe Preis der Niedrigpreise
DTSTART;TZID=Europe/Berlin:20080208T203000
DTSTAMP:20260423T014034Z
UID:37a38f2a572e448999c713e6bdaf888d@zmi.spielboden.at
CREATED:20120822T145403Z
LAST-MODIFIED:20210809T123729Z
URL:https://zmi.spielboden.at/Plone/veranstaltungen/2008/02_februar/2008-0
 2-08-20-30-wal-mart-2013-der-hohe-preis-der-niedrigpreise
END:VEVENT
BEGIN:VTIMEZONE
TZID:Europe/Berlin
X-LIC-LOCATION:Europe/Berlin
BEGIN:STANDARD
DTSTART:20071028T020000
TZNAME:CET
TZOFFSETFROM:+0200
TZOFFSETTO:+0100
END:STANDARD
END:VTIMEZONE
END:VCALENDAR
