BEGIN:VCALENDAR
VERSION:2.0
PRODID:-//Plone.org//NONSGML plone.app.event//EN
X-WR-TIMEZONE:Europe/Berlin
BEGIN:VEVENT
SUMMARY:Bernard Fowler's "Bad Dog"  - Der Lieblingssänger der "Stones"
DTSTART;TZID=Europe/Berlin:20080207T203000
DTSTAMP:20260423T033345Z
UID:f254f5a1c7e74549aab1c150119281a5@zmi.spielboden.at
CREATED:20120822T145420Z
DESCRIPTION:Der Lieblingssänger der "Stones"
LAST-MODIFIED:20210809T123733Z
URL:https://zmi.spielboden.at/Plone/veranstaltungen/2008/02_februar/2008-0
 2-07-20-30-bernard-fowler-s-bad-dog-der-lieblingssaenger-der-stones
END:VEVENT
BEGIN:VTIMEZONE
TZID:Europe/Berlin
X-LIC-LOCATION:Europe/Berlin
BEGIN:STANDARD
DTSTART:20071028T020000
TZNAME:CET
TZOFFSETFROM:+0200
TZOFFSETTO:+0100
END:STANDARD
END:VTIMEZONE
END:VCALENDAR
