BEGIN:VCALENDAR
VERSION:2.0
PRODID:-//Plone.org//NONSGML plone.app.event//EN
X-WR-TIMEZONE:Europe/Berlin
BEGIN:VEVENT
SUMMARY:After Work Lounge
DTSTART;TZID=Europe/Berlin:20080207T170000
DTSTAMP:20260423T013849Z
UID:5ee70cd422c4483f835fa4978d0351a1@zmi.spielboden.at
CREATED:20120822T145402Z
DESCRIPTION:Erst war die Arbeit - jetzt die Kantine
LAST-MODIFIED:20120910T114157Z
URL:https://zmi.spielboden.at/Plone/veranstaltungen/2008/02_februar/2008-0
 2-07-17-00-after-work-lounge
END:VEVENT
BEGIN:VTIMEZONE
TZID:Europe/Berlin
X-LIC-LOCATION:Europe/Berlin
BEGIN:STANDARD
DTSTART:20071028T020000
TZNAME:CET
TZOFFSETFROM:+0200
TZOFFSETTO:+0100
END:STANDARD
END:VTIMEZONE
END:VCALENDAR
