BEGIN:VCALENDAR
VERSION:2.0
PRODID:-//Plone.org//NONSGML plone.app.event//EN
X-WR-TIMEZONE:Europe/Berlin
BEGIN:VEVENT
SUMMARY:The Wind that shakes the Barley
DTSTART;TZID=Europe/Berlin:20080205T203000
DTSTAMP:20260423T014034Z
UID:1b85549e03854ae69d4235df30f2e7f7@zmi.spielboden.at
CREATED:20120822T145401Z
LAST-MODIFIED:20210809T123728Z
URL:https://zmi.spielboden.at/Plone/veranstaltungen/2008/02_februar/2008-0
 2-05-20-30-the-wind-that-shakes-the-barley
END:VEVENT
BEGIN:VTIMEZONE
TZID:Europe/Berlin
X-LIC-LOCATION:Europe/Berlin
BEGIN:STANDARD
DTSTART:20071028T020000
TZNAME:CET
TZOFFSETFROM:+0200
TZOFFSETTO:+0100
END:STANDARD
END:VTIMEZONE
END:VCALENDAR
