BEGIN:VCALENDAR
VERSION:2.0
PRODID:-//Plone.org//NONSGML plone.app.event//EN
X-WR-TIMEZONE:Europe/Berlin
BEGIN:VEVENT
SUMMARY:Jeunesse für Kinder - Durch dick und dünn
DTSTART;TZID=Europe/Berlin:20080202T150000
DTSTAMP:20260423T014508Z
UID:79ae84f45e044bd0bc9cef50ca58f480@zmi.spielboden.at
CREATED:20120822T145359Z
DESCRIPTION:Komisch poetisches Theater mit Musik ab 6 Jahren
LAST-MODIFIED:20120910T114157Z
URL:https://zmi.spielboden.at/Plone/veranstaltungen/2008/02_februar/2008-0
 2-02-15-00-jeunesse-fuer-kinder-durch-dick-und-duenn
END:VEVENT
BEGIN:VTIMEZONE
TZID:Europe/Berlin
X-LIC-LOCATION:Europe/Berlin
BEGIN:STANDARD
DTSTART:20071028T020000
TZNAME:CET
TZOFFSETFROM:+0200
TZOFFSETTO:+0100
END:STANDARD
END:VTIMEZONE
END:VCALENDAR
