BEGIN:VCALENDAR
VERSION:2.0
PRODID:-//Plone.org//NONSGML plone.app.event//EN
X-WR-TIMEZONE:Europe/Berlin
BEGIN:VEVENT
SUMMARY:Arabische Filmreihe – Al Leil / Die Nacht (Syrien)
DTSTART;TZID=Europe/Berlin:20080201T203000
DTSTAMP:20260423T031425Z
UID:0864a56b5b374882876f3d8f6d2e953d@zmi.spielboden.at
CREATED:20120822T145358Z
DESCRIPTION:in Zusammenarbeit mit dem Marokkanischen Verein
LAST-MODIFIED:20210809T123728Z
URL:https://zmi.spielboden.at/Plone/veranstaltungen/2008/02_februar/2008-0
 2-01-20-30-arabische-filmreihe-2013-al-leil-die-nacht-syrien
END:VEVENT
BEGIN:VTIMEZONE
TZID:Europe/Berlin
X-LIC-LOCATION:Europe/Berlin
BEGIN:STANDARD
DTSTART:20071028T020000
TZNAME:CET
TZOFFSETFROM:+0200
TZOFFSETTO:+0100
END:STANDARD
END:VTIMEZONE
END:VCALENDAR
