BEGIN:VCALENDAR
VERSION:2.0
PRODID:-//Plone.org//NONSGML plone.app.event//EN
X-WR-TIMEZONE:Europe/Berlin
BEGIN:VEVENT
SUMMARY:SONIC CAFE - heute mit Fräulein Cicibe
DTSTART;TZID=Europe/Berlin:20080131T210000
DTSTAMP:20260423T031208Z
UID:d43b47c6f15b442f8a41baf264bb5d62@zmi.spielboden.at
CREATED:20120822T145357Z
LAST-MODIFIED:20120910T114157Z
URL:https://zmi.spielboden.at/Plone/veranstaltungen/2008/01_jaenner/2008-0
 1-31-21-00-sonic-cafe-heute-mit-fraeulein-cicibe
END:VEVENT
BEGIN:VTIMEZONE
TZID:Europe/Berlin
X-LIC-LOCATION:Europe/Berlin
BEGIN:STANDARD
DTSTART:20071028T020000
TZNAME:CET
TZOFFSETFROM:+0200
TZOFFSETTO:+0100
END:STANDARD
END:VTIMEZONE
END:VCALENDAR
