BEGIN:VCALENDAR
VERSION:2.0
PRODID:-//Plone.org//NONSGML plone.app.event//EN
X-WR-TIMEZONE:Europe/Berlin
BEGIN:VEVENT
SUMMARY:Filmreihe Antonioni – Blow up
DTSTART;TZID=Europe/Berlin:20080123T203000
DTSTAMP:20260423T031220Z
UID:fc91e0fa5cc94ae09aca23f7a80b2342@zmi.spielboden.at
CREATED:20120822T145353Z
LAST-MODIFIED:20210809T123727Z
URL:https://zmi.spielboden.at/Plone/veranstaltungen/2008/01_jaenner/2008-0
 1-23-20-30-filmreihe-antonioni-2013-blow-up
END:VEVENT
BEGIN:VTIMEZONE
TZID:Europe/Berlin
X-LIC-LOCATION:Europe/Berlin
BEGIN:STANDARD
DTSTART:20071028T020000
TZNAME:CET
TZOFFSETFROM:+0200
TZOFFSETTO:+0100
END:STANDARD
END:VTIMEZONE
END:VCALENDAR
