BEGIN:VCALENDAR
VERSION:2.0
PRODID:-//Plone.org//NONSGML plone.app.event//EN
X-WR-TIMEZONE:Europe/Berlin
BEGIN:VEVENT
SUMMARY:Filmreihe Antonioni – Zabriskie Point
DTSTART;TZID=Europe/Berlin:20080122T203000
DTSTAMP:20260423T031345Z
UID:a4abb22ef5ca47abb55eee2b3dc45bc5@zmi.spielboden.at
CREATED:20120822T145352Z
LAST-MODIFIED:20210809T123727Z
URL:https://zmi.spielboden.at/Plone/veranstaltungen/2008/01_jaenner/2008-0
 1-22-20-30-filmreihe-antonioni-2013-zabriskie-point
END:VEVENT
BEGIN:VTIMEZONE
TZID:Europe/Berlin
X-LIC-LOCATION:Europe/Berlin
BEGIN:STANDARD
DTSTART:20071028T020000
TZNAME:CET
TZOFFSETFROM:+0200
TZOFFSETTO:+0100
END:STANDARD
END:VTIMEZONE
END:VCALENDAR
