BEGIN:VCALENDAR
VERSION:2.0
PRODID:-//Plone.org//NONSGML plone.app.event//EN
X-WR-TIMEZONE:Europe/Berlin
BEGIN:VEVENT
SUMMARY:Kantine - MENSA-DJ-LINE
DTSTART;TZID=Europe/Berlin:20080118T220000
DTSTAMP:20260423T014012Z
UID:316a2fac689e481eb1bb3d85acc9e335@zmi.spielboden.at
CREATED:20120822T145350Z
LAST-MODIFIED:20120910T114156Z
URL:https://zmi.spielboden.at/Plone/veranstaltungen/2008/01_jaenner/2008-0
 1-18-22-00-kantine-mensa-dj-line
END:VEVENT
BEGIN:VTIMEZONE
TZID:Europe/Berlin
X-LIC-LOCATION:Europe/Berlin
BEGIN:STANDARD
DTSTART:20071028T020000
TZNAME:CET
TZOFFSETFROM:+0200
TZOFFSETTO:+0100
END:STANDARD
END:VTIMEZONE
END:VCALENDAR
