BEGIN:VCALENDAR
VERSION:2.0
PRODID:-//Plone.org//NONSGML plone.app.event//EN
X-WR-TIMEZONE:Europe/Berlin
BEGIN:VEVENT
SUMMARY:Farmer John – Mit Mistgabel und Federboa
DTSTART;TZID=Europe/Berlin:20080118T203000
DTSTAMP:20260423T002305Z
UID:4844b2226d524f8e84b560468b85e3a6@zmi.spielboden.at
CREATED:20120822T145350Z
LAST-MODIFIED:20210809T123725Z
URL:https://zmi.spielboden.at/Plone/veranstaltungen/2008/01_jaenner/2008-0
 1-18-20-30-farmer-john-2013-mit-mistgabel-und-federboa
END:VEVENT
BEGIN:VTIMEZONE
TZID:Europe/Berlin
X-LIC-LOCATION:Europe/Berlin
BEGIN:STANDARD
DTSTART:20071028T020000
TZNAME:CET
TZOFFSETFROM:+0200
TZOFFSETTO:+0100
END:STANDARD
END:VTIMEZONE
END:VCALENDAR
