BEGIN:VCALENDAR
VERSION:2.0
PRODID:-//Plone.org//NONSGML plone.app.event//EN
X-WR-TIMEZONE:Europe/Berlin
BEGIN:VEVENT
SUMMARY:SONIC CAFE - heute mit Fräulein Cicibe
DTSTART;TZID=Europe/Berlin:20080117T210000
DTSTAMP:20260424T114055Z
UID:bb80992d48a949959f614b401e3c1602@zmi.spielboden.at
CREATED:20120822T145347Z
LAST-MODIFIED:20120910T114156Z
URL:https://zmi.spielboden.at/Plone/veranstaltungen/2008/01_jaenner/2008-0
 1-17-21-00-sonic-cafe-heute-mit-fraeulein-cicibe
END:VEVENT
BEGIN:VTIMEZONE
TZID:Europe/Berlin
X-LIC-LOCATION:Europe/Berlin
BEGIN:STANDARD
DTSTART:20071028T020000
TZNAME:CET
TZOFFSETFROM:+0200
TZOFFSETTO:+0100
END:STANDARD
END:VTIMEZONE
END:VCALENDAR
