BEGIN:VCALENDAR
VERSION:2.0
PRODID:-//Plone.org//NONSGML plone.app.event//EN
X-WR-TIMEZONE:Europe/Berlin
BEGIN:VEVENT
SUMMARY:JamSlam de la Poetry
DTSTART;TZID=Europe/Berlin:20080117T200000
DTSTAMP:20260423T002357Z
UID:0ff9157210a74c2395efab7e8dec5252@zmi.spielboden.at
CREATED:20120822T145346Z
DESCRIPTION:Jetzt geht's ans Eingemachte!
LAST-MODIFIED:20120910T114156Z
URL:https://zmi.spielboden.at/Plone/veranstaltungen/2008/01_jaenner/2008-0
 1-17-20-00-jamslam-de-la-poetry
END:VEVENT
BEGIN:VTIMEZONE
TZID:Europe/Berlin
X-LIC-LOCATION:Europe/Berlin
BEGIN:STANDARD
DTSTART:20071028T020000
TZNAME:CET
TZOFFSETFROM:+0200
TZOFFSETTO:+0100
END:STANDARD
END:VTIMEZONE
END:VCALENDAR
