BEGIN:VCALENDAR
VERSION:2.0
PRODID:-//Plone.org//NONSGML plone.app.event//EN
X-WR-TIMEZONE:Europe/Berlin
BEGIN:VEVENT
SUMMARY:Filmreihe Antonioni – Die rote Wüste
DTSTART;TZID=Europe/Berlin:20080115T203000
DTSTAMP:20260423T004547Z
UID:699cc818208e4da186c8d949ab7360e0@zmi.spielboden.at
CREATED:20120822T145351Z
LAST-MODIFIED:20210809T123725Z
URL:https://zmi.spielboden.at/Plone/veranstaltungen/2008/01_jaenner/2008-0
 1-15-20-30-filmreihe-antonioni-2013-die-rote-wueste
END:VEVENT
BEGIN:VTIMEZONE
TZID:Europe/Berlin
X-LIC-LOCATION:Europe/Berlin
BEGIN:STANDARD
DTSTART:20071028T020000
TZNAME:CET
TZOFFSETFROM:+0200
TZOFFSETTO:+0100
END:STANDARD
END:VTIMEZONE
END:VCALENDAR
