BEGIN:VCALENDAR
VERSION:2.0
PRODID:-//Plone.org//NONSGML plone.app.event//EN
X-WR-TIMEZONE:Europe/Berlin
BEGIN:VEVENT
SUMMARY:DJ Ernesto – Rock’n’Roll & Rockabilly Special
DTSTART;TZID=Europe/Berlin:20080112T210000
DTSTAMP:20260423T014137Z
UID:5f00f1f9c7034f849cbc332e49ac00d8@zmi.spielboden.at
CREATED:20120822T145345Z
LAST-MODIFIED:20120910T114156Z
URL:https://zmi.spielboden.at/Plone/veranstaltungen/2008/01_jaenner/2008-0
 1-12-21-00-dj-ernesto-2013-rock2019n2019roll-rockabilly-special
END:VEVENT
BEGIN:VTIMEZONE
TZID:Europe/Berlin
X-LIC-LOCATION:Europe/Berlin
BEGIN:STANDARD
DTSTART:20071028T020000
TZNAME:CET
TZOFFSETFROM:+0200
TZOFFSETTO:+0100
END:STANDARD
END:VTIMEZONE
END:VCALENDAR
