BEGIN:VCALENDAR
VERSION:2.0
PRODID:-//Plone.org//NONSGML plone.app.event//EN
X-WR-TIMEZONE:Europe/Berlin
BEGIN:VEVENT
SUMMARY:Filmreihe Psychische Krankheiten – Snow Cake
DTSTART;TZID=Europe/Berlin:20080111T203000
DTSTAMP:20260423T002454Z
UID:5867eea632aa400c9b0d1580e51de3b8@zmi.spielboden.at
CREATED:20120822T145344Z
DESCRIPTION:in Zusammenarbeit mit den Psychosozialen Gesundheitsdiensten
LAST-MODIFIED:20210809T123725Z
URL:https://zmi.spielboden.at/Plone/veranstaltungen/2008/01_jaenner/2008-0
 1-11-20-30-filmreihe-psychische-krankheiten-2013-snow-cake
END:VEVENT
BEGIN:VTIMEZONE
TZID:Europe/Berlin
X-LIC-LOCATION:Europe/Berlin
BEGIN:STANDARD
DTSTART:20071028T020000
TZNAME:CET
TZOFFSETFROM:+0200
TZOFFSETTO:+0100
END:STANDARD
END:VTIMEZONE
END:VCALENDAR
