BEGIN:VCALENDAR
VERSION:2.0
PRODID:-//Plone.org//NONSGML plone.app.event//EN
X-WR-TIMEZONE:Europe/Berlin
BEGIN:VEVENT
SUMMARY:After Work Lounge
DTSTART;TZID=Europe/Berlin:20080110T170000
DTSTAMP:20260424T170430Z
UID:1e4d3ef5738148a48cd3a8ac36274c40@zmi.spielboden.at
CREATED:20120822T145343Z
DESCRIPTION:Erst war die Arbeit - jetzt die Kantine
LAST-MODIFIED:20120910T114156Z
URL:https://zmi.spielboden.at/Plone/veranstaltungen/2008/01_jaenner/2008-0
 1-10-17-00-after-work-lounge
END:VEVENT
BEGIN:VTIMEZONE
TZID:Europe/Berlin
X-LIC-LOCATION:Europe/Berlin
BEGIN:STANDARD
DTSTART:20071028T020000
TZNAME:CET
TZOFFSETFROM:+0200
TZOFFSETTO:+0100
END:STANDARD
END:VTIMEZONE
END:VCALENDAR
