BEGIN:VCALENDAR
VERSION:2.0
PRODID:-//Plone.org//NONSGML plone.app.event//EN
X-WR-TIMEZONE:Europe/Berlin
BEGIN:VEVENT
SUMMARY:Filmreihe Psychische Krankheiten – Kira
DTSTART;TZID=Europe/Berlin:20080108T203000
DTSTAMP:20260423T000723Z
UID:4fb2ca82294648e6a66083a6c883e0fe@zmi.spielboden.at
CREATED:20120822T145342Z
DESCRIPTION:In Zusammenarbeit mit den Psychosozialen Gesundheitsdiensten
LAST-MODIFIED:20210809T123724Z
URL:https://zmi.spielboden.at/Plone/veranstaltungen/2008/01_jaenner/2008-0
 1-08-20-30-filmreihe-psychische-krankheiten-2013-kira
END:VEVENT
BEGIN:VTIMEZONE
TZID:Europe/Berlin
X-LIC-LOCATION:Europe/Berlin
BEGIN:STANDARD
DTSTART:20071028T020000
TZNAME:CET
TZOFFSETFROM:+0200
TZOFFSETTO:+0100
END:STANDARD
END:VTIMEZONE
END:VCALENDAR
