BEGIN:VCALENDAR
VERSION:2.0
PRODID:-//Plone.org//NONSGML plone.app.event//EN
X-WR-TIMEZONE:Europe/Berlin
BEGIN:VEVENT
SUMMARY:Krebshilfe Benefizkonzert
DTSTART;TZID=Europe/Berlin:20080105T203000
DTSTAMP:20260423T002207Z
UID:afa35e9180ff4502b35111179adaefdd@zmi.spielboden.at
CREATED:20120822T145341Z
DESCRIPTION:Sweet Soul Music – Von Aretha Franklin bis Wilson Pickett!
LAST-MODIFIED:20210809T123724Z
URL:https://zmi.spielboden.at/Plone/veranstaltungen/2008/01_jaenner/2008-0
 1-05-20-30-krebshilfe-benefizkonzert
END:VEVENT
BEGIN:VTIMEZONE
TZID:Europe/Berlin
X-LIC-LOCATION:Europe/Berlin
BEGIN:STANDARD
DTSTART:20071028T020000
TZNAME:CET
TZOFFSETFROM:+0200
TZOFFSETTO:+0100
END:STANDARD
END:VTIMEZONE
END:VCALENDAR
