BEGIN:VCALENDAR
VERSION:2.0
PRODID:-//Plone.org//NONSGML plone.app.event//EN
X-WR-TIMEZONE:Europe/Berlin
BEGIN:VEVENT
SUMMARY:Türkce Koro / Türkischer Chor – 1. Probe
DTSTART;TZID=Europe/Berlin:20080105T110000
DTSTAMP:20260423T000329Z
UID:5f01ad1508c544cc9ff7fda20b31898c@zmi.spielboden.at
CREATED:20120822T145340Z
DESCRIPTION:In Zusammenarbeit mit dem interkulturellen Kulturverein Motif.
LAST-MODIFIED:20210809T123724Z
URL:https://zmi.spielboden.at/Plone/veranstaltungen/2008/01_jaenner/2008-0
 1-05-11-00-tuerkce-koro-tuerkischer-chor-2013-1-probe
END:VEVENT
BEGIN:VTIMEZONE
TZID:Europe/Berlin
X-LIC-LOCATION:Europe/Berlin
BEGIN:STANDARD
DTSTART:20071028T020000
TZNAME:CET
TZOFFSETFROM:+0200
TZOFFSETTO:+0100
END:STANDARD
END:VTIMEZONE
END:VCALENDAR
