BEGIN:VCALENDAR
VERSION:2.0
PRODID:-//Plone.org//NONSGML plone.app.event//EN
X-WR-TIMEZONE:Europe/Berlin
BEGIN:VEVENT
SUMMARY:Neujahrskonzert - Las Vegas Drive Thru Wedding Chapel
DTSTART;TZID=Europe/Berlin:20080104T213000
DTSTAMP:20260423T000457Z
UID:9098307909b4447fa2c475acbd3b2fe3@zmi.spielboden.at
CREATED:20120822T145339Z
LAST-MODIFIED:20210809T123724Z
URL:https://zmi.spielboden.at/Plone/veranstaltungen/2008/01_jaenner/2008-0
 1-04-21-30-neujahrskonzert-las-vegas-drive-thru-wedding-chapel
END:VEVENT
BEGIN:VTIMEZONE
TZID:Europe/Berlin
X-LIC-LOCATION:Europe/Berlin
BEGIN:STANDARD
DTSTART:20071028T020000
TZNAME:CET
TZOFFSETFROM:+0200
TZOFFSETTO:+0100
END:STANDARD
END:VTIMEZONE
END:VCALENDAR
