BEGIN:VCALENDAR
VERSION:2.0
PRODID:-//Plone.org//NONSGML plone.app.event//EN
X-WR-TIMEZONE:Europe/Berlin
BEGIN:VEVENT
SUMMARY:Neujahrskonzert - Ferengi
DTSTART;TZID=Europe/Berlin:20080103T213000
DTSTAMP:20260423T002239Z
UID:ba2f13a635c44e959b87cc946246caef@zmi.spielboden.at
CREATED:20120822T145338Z
LAST-MODIFIED:20210809T123724Z
URL:https://zmi.spielboden.at/Plone/veranstaltungen/2008/01_jaenner/2008-0
 1-03-21-30-neujahrskonzert-ferengi
END:VEVENT
BEGIN:VTIMEZONE
TZID:Europe/Berlin
X-LIC-LOCATION:Europe/Berlin
BEGIN:STANDARD
DTSTART:20071028T020000
TZNAME:CET
TZOFFSETFROM:+0200
TZOFFSETTO:+0100
END:STANDARD
END:VTIMEZONE
END:VCALENDAR
