BEGIN:VCALENDAR
VERSION:2.0
PRODID:-//Plone.org//NONSGML plone.app.event//EN
X-WR-TIMEZONE:Europe/Berlin
BEGIN:VEVENT
SUMMARY:X-Mas Globe
DTSTART;TZID=Europe/Berlin:20071229T210000
DTSTAMP:20260424T140654Z
UID:ef2328a5447a494db6c4de1044c547b0@zmi.spielboden.at
CREATED:20120822T145321Z
DESCRIPTION:the World at Home – Worldmusic-Dance
LAST-MODIFIED:20210809T123721Z
URL:https://zmi.spielboden.at/Plone/veranstaltungen/2007/12_dezember/2007-
 12-29-21-00-x-mas-globe
END:VEVENT
BEGIN:VTIMEZONE
TZID:Europe/Berlin
X-LIC-LOCATION:Europe/Berlin
BEGIN:STANDARD
DTSTART:20071028T020000
TZNAME:CET
TZOFFSETFROM:+0200
TZOFFSETTO:+0100
END:STANDARD
END:VTIMEZONE
END:VCALENDAR
