BEGIN:VCALENDAR
VERSION:2.0
PRODID:-//Plone.org//NONSGML plone.app.event//EN
X-WR-TIMEZONE:Europe/Berlin
BEGIN:VEVENT
SUMMARY:X-Mas Kabarett – Tris »Drei Orchideen«
DTSTART;TZID=Europe/Berlin:20071228T203000
DTSTAMP:20260423T000340Z
UID:e9f4f40baf7447fcac3e158668eba48f@zmi.spielboden.at
CREATED:20120822T145320Z
DESCRIPTION:Ein Clownstück über Tod\, Abschied und Neubeginn
LAST-MODIFIED:20210809T123721Z
URL:https://zmi.spielboden.at/Plone/veranstaltungen/2007/12_dezember/2007-
 12-28-20-30-x-mas-kabarett-2013-tris-bbdrei-orchideenab
END:VEVENT
BEGIN:VTIMEZONE
TZID:Europe/Berlin
X-LIC-LOCATION:Europe/Berlin
BEGIN:STANDARD
DTSTART:20071028T020000
TZNAME:CET
TZOFFSETFROM:+0200
TZOFFSETTO:+0100
END:STANDARD
END:VTIMEZONE
END:VCALENDAR
