BEGIN:VCALENDAR
VERSION:2.0
PRODID:-//Plone.org//NONSGML plone.app.event//EN
X-WR-TIMEZONE:Europe/Berlin
BEGIN:VEVENT
SUMMARY:60er/70er Party
DTSTART;TZID=Europe/Berlin:20071227T230000
DTSTAMP:20260424T114508Z
UID:bbeefff9395f449398692e8445f1528f@zmi.spielboden.at
CREATED:20120822T145334Z
LAST-MODIFIED:20210809T123723Z
URL:https://zmi.spielboden.at/Plone/veranstaltungen/2007/12_dezember/2007-
 12-27-23-00-60er-70er-party
END:VEVENT
BEGIN:VTIMEZONE
TZID:Europe/Berlin
X-LIC-LOCATION:Europe/Berlin
BEGIN:STANDARD
DTSTART:20071028T020000
TZNAME:CET
TZOFFSETFROM:+0200
TZOFFSETTO:+0100
END:STANDARD
END:VTIMEZONE
END:VCALENDAR
