BEGIN:VCALENDAR
VERSION:2.0
PRODID:-//Plone.org//NONSGML plone.app.event//EN
X-WR-TIMEZONE:Europe/Berlin
BEGIN:VEVENT
SUMMARY:X-Mas Jazz& – Georg Breinschmid »Hommage to Charles Mingus«
DTSTART;TZID=Europe/Berlin:20071227T203000
DTSTAMP:20260423T000505Z
UID:f3c6c1bb8a3c4cf8a789843a058aa683@zmi.spielboden.at
CREATED:20120822T145308Z
LAST-MODIFIED:20210809T123718Z
URL:https://zmi.spielboden.at/Plone/veranstaltungen/2007/12_dezember/2007-
 12-27-20-30-x-mas-jazz-2013-georg-breinschmid-bbhommage-to-charles-mingusa
 b
END:VEVENT
BEGIN:VTIMEZONE
TZID:Europe/Berlin
X-LIC-LOCATION:Europe/Berlin
BEGIN:STANDARD
DTSTART:20071028T020000
TZNAME:CET
TZOFFSETFROM:+0200
TZOFFSETTO:+0100
END:STANDARD
END:VTIMEZONE
END:VCALENDAR
