BEGIN:VCALENDAR
VERSION:2.0
PRODID:-//Plone.org//NONSGML plone.app.event//EN
X-WR-TIMEZONE:Europe/Berlin
BEGIN:VEVENT
SUMMARY:X-Mas Balkanexpress – Prekmurski Kavbojci
DTSTART;TZID=Europe/Berlin:20071226T210000
DTSTAMP:20260423T000339Z
UID:db1a14c00a914452af0b8b8c5dc3df32@zmi.spielboden.at
CREATED:20120822T145336Z
DESCRIPTION:Support: Le Mondial
LAST-MODIFIED:20210809T123723Z
URL:https://zmi.spielboden.at/Plone/veranstaltungen/2007/12_dezember/2007-
 12-26-21-00-x-mas-balkanexpress-2013-prekmurski-kavbojci
END:VEVENT
BEGIN:VTIMEZONE
TZID:Europe/Berlin
X-LIC-LOCATION:Europe/Berlin
BEGIN:STANDARD
DTSTART:20071028T020000
TZNAME:CET
TZOFFSETFROM:+0200
TZOFFSETTO:+0100
END:STANDARD
END:VTIMEZONE
END:VCALENDAR
