BEGIN:VCALENDAR
VERSION:2.0
PRODID:-//Plone.org//NONSGML plone.app.event//EN
X-WR-TIMEZONE:Europe/Berlin
BEGIN:VEVENT
SUMMARY:Kantine – Roy Orbison Night
DTSTART;TZID=Europe/Berlin:20071225T210000
DTSTAMP:20260423T013936Z
UID:fcf02552194e45558038529c6f6eea04@zmi.spielboden.at
CREATED:20120822T145332Z
LAST-MODIFIED:20210809T123723Z
URL:https://zmi.spielboden.at/Plone/veranstaltungen/2007/12_dezember/2007-
 12-25-21-00-kantine-2013-roy-orbison-night
END:VEVENT
BEGIN:VTIMEZONE
TZID:Europe/Berlin
X-LIC-LOCATION:Europe/Berlin
BEGIN:STANDARD
DTSTART:20071028T020000
TZNAME:CET
TZOFFSETFROM:+0200
TZOFFSETTO:+0100
END:STANDARD
END:VTIMEZONE
END:VCALENDAR
