BEGIN:VCALENDAR
VERSION:2.0
PRODID:-//Plone.org//NONSGML plone.app.event//EN
X-WR-TIMEZONE:Europe/Berlin
BEGIN:VEVENT
SUMMARY:Rocket Freudental – Zu Gast im Sonic Cafe mit Fräulein Cicibe
DTSTART;TZID=Europe/Berlin:20071220T220000
DTSTAMP:20260422T225042Z
UID:36f2f53f467648588e9830374dac669f@zmi.spielboden.at
CREATED:20120822T145319Z
LAST-MODIFIED:20210809T123721Z
URL:https://zmi.spielboden.at/Plone/veranstaltungen/2007/12_dezember/2007-
 12-20-22-00-rocket-freudental-2013-zu-gast-im-sonic-cafe-mit-fraeulein-cic
 ibe
END:VEVENT
BEGIN:VTIMEZONE
TZID:Europe/Berlin
X-LIC-LOCATION:Europe/Berlin
BEGIN:STANDARD
DTSTART:20071028T020000
TZNAME:CET
TZOFFSETFROM:+0200
TZOFFSETTO:+0100
END:STANDARD
END:VTIMEZONE
END:VCALENDAR
