BEGIN:VCALENDAR
VERSION:2.0
PRODID:-//Plone.org//NONSGML plone.app.event//EN
X-WR-TIMEZONE:Europe/Berlin
BEGIN:VEVENT
SUMMARY:Full Metal Village
DTSTART;TZID=Europe/Berlin:20071215T203000
DTSTAMP:20260422T224516Z
UID:fb84fda0090543c887625036df9b2511@zmi.spielboden.at
CREATED:20120822T145322Z
LAST-MODIFIED:20210809T123721Z
URL:https://zmi.spielboden.at/Plone/veranstaltungen/2007/12_dezember/2007-
 12-15-20-30-full-metal-village
END:VEVENT
BEGIN:VTIMEZONE
TZID:Europe/Berlin
X-LIC-LOCATION:Europe/Berlin
BEGIN:STANDARD
DTSTART:20071028T020000
TZNAME:CET
TZOFFSETFROM:+0200
TZOFFSETTO:+0100
END:STANDARD
END:VTIMEZONE
END:VCALENDAR
