BEGIN:VCALENDAR
VERSION:2.0
PRODID:-//Plone.org//NONSGML plone.app.event//EN
X-WR-TIMEZONE:Europe/Berlin
BEGIN:VEVENT
SUMMARY:Chez Hermes – Live & Hardcore
DTSTART;TZID=Europe/Berlin:20071215T203000
DTSTAMP:20260423T002738Z
UID:a21edf75a0d54c56a1d914163733b46e@zmi.spielboden.at
CREATED:20120822T145311Z
LAST-MODIFIED:20210809T123719Z
URL:https://zmi.spielboden.at/Plone/veranstaltungen/2007/12_dezember/2007-
 12-15-20-30-chez-hermes-2013-live-hardcore
END:VEVENT
BEGIN:VTIMEZONE
TZID:Europe/Berlin
X-LIC-LOCATION:Europe/Berlin
BEGIN:STANDARD
DTSTART:20071028T020000
TZNAME:CET
TZOFFSETFROM:+0200
TZOFFSETTO:+0100
END:STANDARD
END:VTIMEZONE
END:VCALENDAR
