BEGIN:VCALENDAR
VERSION:2.0
PRODID:-//Plone.org//NONSGML plone.app.event//EN
X-WR-TIMEZONE:Europe/Berlin
BEGIN:VEVENT
SUMMARY:Son of the Velvet Rat – "Fall With Me"
DTSTART;TZID=Europe/Berlin:20071214T203000
DTSTAMP:20260423T002417Z
UID:dbc0f3937c5342c6a8bdccc5d63cf7d1@zmi.spielboden.at
CREATED:20120822T145309Z
LAST-MODIFIED:20210809T123719Z
URL:https://zmi.spielboden.at/Plone/veranstaltungen/2007/12_dezember/2007-
 12-14-20-30-son-of-the-velvet-rat-2013-fall-with-me
END:VEVENT
BEGIN:VTIMEZONE
TZID:Europe/Berlin
X-LIC-LOCATION:Europe/Berlin
BEGIN:STANDARD
DTSTART:20071028T020000
TZNAME:CET
TZOFFSETFROM:+0200
TZOFFSETTO:+0100
END:STANDARD
END:VTIMEZONE
END:VCALENDAR
