BEGIN:VCALENDAR
VERSION:2.0
PRODID:-//Plone.org//NONSGML plone.app.event//EN
X-WR-TIMEZONE:Europe/Berlin
BEGIN:VEVENT
SUMMARY:Kantine – Classic Rock Night
DTSTART;TZID=Europe/Berlin:20071213T210000
DTSTAMP:20260424T172154Z
UID:839a21f69db74173aa3abd286171a675@zmi.spielboden.at
CREATED:20120822T145333Z
LAST-MODIFIED:20210809T123723Z
URL:https://zmi.spielboden.at/Plone/veranstaltungen/2007/12_dezember/2007-
 12-13-21-00-kantine-2013-classic-rock-night
END:VEVENT
BEGIN:VTIMEZONE
TZID:Europe/Berlin
X-LIC-LOCATION:Europe/Berlin
BEGIN:STANDARD
DTSTART:20071028T020000
TZNAME:CET
TZOFFSETFROM:+0200
TZOFFSETTO:+0100
END:STANDARD
END:VTIMEZONE
END:VCALENDAR
