BEGIN:VCALENDAR
VERSION:2.0
PRODID:-//Plone.org//NONSGML plone.app.event//EN
X-WR-TIMEZONE:Europe/Berlin
BEGIN:VEVENT
SUMMARY:Joe Strummer - The future is unwritten
DTSTART;TZID=Europe/Berlin:20071212T203000
DTSTAMP:20260423T002034Z
UID:76afe219d79043709a9c11a7a88bddcc@zmi.spielboden.at
CREATED:20120822T145327Z
LAST-MODIFIED:20210809T123722Z
URL:https://zmi.spielboden.at/Plone/veranstaltungen/2007/12_dezember/2007-
 12-12-20-30-joe-strummer-the-future-is-unwritten
END:VEVENT
BEGIN:VTIMEZONE
TZID:Europe/Berlin
X-LIC-LOCATION:Europe/Berlin
BEGIN:STANDARD
DTSTART:20071028T020000
TZNAME:CET
TZOFFSETFROM:+0200
TZOFFSETTO:+0100
END:STANDARD
END:VTIMEZONE
END:VCALENDAR
