BEGIN:VCALENDAR
VERSION:2.0
PRODID:-//Plone.org//NONSGML plone.app.event//EN
X-WR-TIMEZONE:Europe/Berlin
BEGIN:VEVENT
SUMMARY:Die Pappköpfe
DTSTART;TZID=Europe/Berlin:20071212T203000
DTSTAMP:20260423T001941Z
UID:3ea2e17df451484681e58b4e8acf5df9@zmi.spielboden.at
CREATED:20120822T145318Z
LAST-MODIFIED:20210809T123721Z
URL:https://zmi.spielboden.at/Plone/veranstaltungen/2007/12_dezember/2007-
 12-12-20-30-die-pappkoepfe
END:VEVENT
BEGIN:VTIMEZONE
TZID:Europe/Berlin
X-LIC-LOCATION:Europe/Berlin
BEGIN:STANDARD
DTSTART:20071028T020000
TZNAME:CET
TZOFFSETFROM:+0200
TZOFFSETTO:+0100
END:STANDARD
END:VTIMEZONE
END:VCALENDAR
