BEGIN:VCALENDAR
VERSION:2.0
PRODID:-//Plone.org//NONSGML plone.app.event//EN
X-WR-TIMEZONE:Europe/Berlin
BEGIN:VEVENT
SUMMARY:aktionstheater ensemble - Liebe
DTSTART;TZID=Europe/Berlin:20071207T203000
DTSTAMP:20260424T134511Z
UID:16479764d585487682338b5f52fdb5af@zmi.spielboden.at
CREATED:20120822T145316Z
LAST-MODIFIED:20210809T123720Z
URL:https://zmi.spielboden.at/Plone/veranstaltungen/2007/12_dezember/2007-
 12-07-20-30-aktionstheater-ensemble-liebe
END:VEVENT
BEGIN:VTIMEZONE
TZID:Europe/Berlin
X-LIC-LOCATION:Europe/Berlin
BEGIN:STANDARD
DTSTART:20071028T020000
TZNAME:CET
TZOFFSETFROM:+0200
TZOFFSETTO:+0100
END:STANDARD
END:VTIMEZONE
END:VCALENDAR
